BEGIN:VCALENDAR
VERSION:2.0
PRODID:-//R²FAR - ECPv6.15.20//NONSGML v1.0//EN
CALSCALE:GREGORIAN
METHOD:PUBLISH
X-WR-CALNAME:R²FAR
X-ORIGINAL-URL:https://rideforareason.ca
X-WR-CALDESC:Events for R²FAR
REFRESH-INTERVAL;VALUE=DURATION:PT1H
X-Robots-Tag:noindex
X-PUBLISHED-TTL:PT1H
BEGIN:VTIMEZONE
TZID:America/Edmonton
BEGIN:DAYLIGHT
TZOFFSETFROM:-0700
TZOFFSETTO:-0600
TZNAME:MDT
DTSTART:20230312T090000
END:DAYLIGHT
BEGIN:STANDARD
TZOFFSETFROM:-0600
TZOFFSETTO:-0700
TZNAME:MST
DTSTART:20231105T080000
END:STANDARD
BEGIN:DAYLIGHT
TZOFFSETFROM:-0700
TZOFFSETTO:-0600
TZNAME:MDT
DTSTART:20240310T090000
END:DAYLIGHT
BEGIN:STANDARD
TZOFFSETFROM:-0600
TZOFFSETTO:-0700
TZNAME:MST
DTSTART:20241103T080000
END:STANDARD
BEGIN:DAYLIGHT
TZOFFSETFROM:-0700
TZOFFSETTO:-0600
TZNAME:MDT
DTSTART:20250309T090000
END:DAYLIGHT
BEGIN:STANDARD
TZOFFSETFROM:-0600
TZOFFSETTO:-0700
TZNAME:MST
DTSTART:20251102T080000
END:STANDARD
END:VTIMEZONE
BEGIN:VEVENT
DTSTART;TZID=America/Edmonton:20240616T000000
DTEND;TZID=America/Edmonton:20240706T233000
DTSTAMP:20260421T111310
CREATED:20240318T151643Z
LAST-MODIFIED:20240318T152047Z
UID:10757-1718496000-1720308600@rideforareason.ca
SUMMARY:Official R²FAR Run/Ride
DESCRIPTION:Start riding/running between June 16-July 6\, 2024 and track your kilometres! Don’t forget to send us photos and short video’s of your ride/run to rfar@sabc.ca. You can also post them on our Facebook page and tag us on Instagram. \nThere are no restrictions on how you complete your Kilometers (by road or mountain bike\, tandem\, virtual\, ebike\, trail-a-bike\, trail running\, treadmill\, etc.) \nDon’t forget to check out the hosted rides/runs by clicking here.
URL:https://rideforareason.ca/event/official-r%c2%b2far-run-ride/
LOCATION:Alberta
ATTACH;FMTTYPE=image/png:https://rideforareason.ca/wp-content/uploads/2024/03/Official-RunRide-Cover-Photo-01.png
END:VEVENT
BEGIN:VEVENT
DTSTART;VALUE=DATE:20240622
DTEND;VALUE=DATE:20240623
DTSTAMP:20260421T111310
CREATED:20240308T161128Z
LAST-MODIFIED:20240415T152533Z
UID:10738-1719014400-1719100799@rideforareason.ca
SUMMARY:Ride in Banff
DESCRIPTION:Iain Mercer is hosting a ride from Canmore to Johnson Canyon(50km)\, or Canmore to Banff (25km) on 06/22/2024. This event is for biking enthusiast how are up for a good ride! More information to come. RSVP by June 8th. \n  \nFor more info email Iain by clicking here \n  \nThis year we want to bring community to R²FAR and ride/run together. You are invited to join this event. Tie up your shoes\, bring your water and get ready to compete. Ready? Set\, Go!
URL:https://rideforareason.ca/event/ride-in-banff/
LOCATION:Canmore Visitor Centre\, 2801 Bow Valley Trail\, Canmore\, Alberta\, T1W 3A21\, Canada
ATTACH;FMTTYPE=image/jpeg:https://rideforareason.ca/wp-content/uploads/2024/03/beautiful-scenery-of-banff-national-park-in-albert-2023-11-27-05-05-00-utc-scaled-e1709914434222.jpg
END:VEVENT
END:VCALENDAR